Package: spaSim Version: 1.8.0 Command: /home/biocbuild/bbs-3.20-bioc/R/bin/R CMD check --install=check:spaSim.install-out.txt --library=/home/biocbuild/bbs-3.20-bioc/R/site-library --timings spaSim_1.8.0.tar.gz StartedAt: 2025-01-31 02:32:45 -0500 (Fri, 31 Jan 2025) EndedAt: 2025-01-31 02:38:29 -0500 (Fri, 31 Jan 2025) EllapsedTime: 344.3 seconds RetCode: 0 Status: OK CheckDir: spaSim.Rcheck Warnings: 0