Package: smartid Version: 1.2.0 Command: rm -rf smartid.buildbin-libdir && mkdir smartid.buildbin-libdir && F:\biocbuild\bbs-3.20-bioc\R\bin\R.exe CMD INSTALL --build --library=smartid.buildbin-libdir smartid_1.2.0.tar.gz StartedAt: 2025-01-31 09:39:58 -0500 (Fri, 31 Jan 2025) EndedAt: 2025-01-31 09:40:38 -0500 (Fri, 31 Jan 2025) EllapsedTime: 39.8 seconds RetCode: 0 Status: OK PackageFile: smartid_1.2.0.zip PackageFileSize: 1.516 MiB