Package: slalom Version: 1.28.0 Command: /home/biocbuild/R/R/bin/R CMD INSTALL slalom StartedAt: 2025-01-30 20:58:34 -0000 (Thu, 30 Jan 2025) EndedAt: 2025-01-30 20:59:46 -0000 (Thu, 30 Jan 2025) EllapsedTime: 72.1 seconds RetCode: 0 Status: OK