Package: slalom Version: 1.28.0 Command: /home/biocbuild/R/R/bin/R CMD check --install=check:slalom.install-out.txt --library=/home/biocbuild/R/R/site-library --no-vignettes --timings slalom_1.28.0.tar.gz StartedAt: 2025-01-31 10:32:26 -0000 (Fri, 31 Jan 2025) EndedAt: 2025-01-31 10:37:32 -0000 (Fri, 31 Jan 2025) EllapsedTime: 306.3 seconds RetCode: 0 Status: WARNINGS CheckDir: slalom.Rcheck Warnings: 1