Package: sketchR Version: 1.2.0 Command: /home/biocbuild/R/R/bin/R CMD INSTALL sketchR StartedAt: 2025-01-30 20:19:10 -0000 (Thu, 30 Jan 2025) EndedAt: 2025-01-30 20:19:29 -0000 (Thu, 30 Jan 2025) EllapsedTime: 19.6 seconds RetCode: 0 Status: OK