Package: simplifyEnrichment Version: 2.0.0 Command: /home/biocbuild/R/R/bin/R CMD check --install=check:simplifyEnrichment.install-out.txt --library=/home/biocbuild/R/R/site-library --no-vignettes --timings simplifyEnrichment_2.0.0.tar.gz StartedAt: 2025-01-31 10:28:50 -0000 (Fri, 31 Jan 2025) EndedAt: 2025-01-31 10:31:49 -0000 (Fri, 31 Jan 2025) EllapsedTime: 178.2 seconds RetCode: 0 Status: OK CheckDir: simplifyEnrichment.Rcheck Warnings: 0