Package: simplifyEnrichment Version: 2.0.0 Command: F:\biocbuild\bbs-3.20-bioc\R\bin\R.exe CMD check --no-multiarch --install=check:simplifyEnrichment.install-out.txt --library=F:\biocbuild\bbs-3.20-bioc\R\library --no-vignettes --timings simplifyEnrichment_2.0.0.tar.gz StartedAt: 2025-01-31 06:32:37 -0500 (Fri, 31 Jan 2025) EndedAt: 2025-01-31 06:35:48 -0500 (Fri, 31 Jan 2025) EllapsedTime: 191.0 seconds RetCode: 0 Status: OK CheckDir: simplifyEnrichment.Rcheck Warnings: 0