Package: simplifyEnrichment Version: 2.0.0 Command: chmod a+r simplifyEnrichment -R && F:\biocbuild\bbs-3.20-bioc\R\bin\R.exe CMD build --keep-empty-dirs --no-resave-data simplifyEnrichment StartedAt: 2025-01-30 21:54:42 -0500 (Thu, 30 Jan 2025) EndedAt: 2025-01-30 21:55:24 -0500 (Thu, 30 Jan 2025) EllapsedTime: 41.9 seconds RetCode: 0 Status: OK PackageFile: simplifyEnrichment_2.0.0.tar.gz PackageFileSize: 1.025 MiB