Package: simplifyEnrichment Version: 2.0.0 Command: /home/biocbuild/bbs-3.20-bioc/R/bin/R CMD check --install=check:simplifyEnrichment.install-out.txt --library=/home/biocbuild/bbs-3.20-bioc/R/site-library --timings simplifyEnrichment_2.0.0.tar.gz StartedAt: 2025-01-31 02:22:44 -0500 (Fri, 31 Jan 2025) EndedAt: 2025-01-31 02:25:00 -0500 (Fri, 31 Jan 2025) EllapsedTime: 136.1 seconds RetCode: 0 Status: OK CheckDir: simplifyEnrichment.Rcheck Warnings: 0