Package: simpleSeg Version: 1.8.0 Command: /home/biocbuild/R/R/bin/R CMD build --keep-empty-dirs --no-resave-data simpleSeg StartedAt: 2025-01-31 02:45:48 -0000 (Fri, 31 Jan 2025) EndedAt: 2025-01-31 02:45:49 -0000 (Fri, 31 Jan 2025) EllapsedTime: 1.0 seconds RetCode: 1 Status: ERROR PackageFile: None PackageFileSize: NA