Package: simpleSeg Version: 1.8.0 Command: F:\biocbuild\bbs-3.20-bioc\R\bin\R.exe CMD INSTALL simpleSeg StartedAt: 2025-01-30 16:24:40 -0500 (Thu, 30 Jan 2025) EndedAt: 2025-01-30 16:26:02 -0500 (Thu, 30 Jan 2025) EllapsedTime: 82.0 seconds RetCode: 0 Status: OK