Package: simpleSeg Version: 1.8.0 Command: F:\biocbuild\bbs-3.20-bioc\R\bin\R.exe CMD check --no-multiarch --install=check:simpleSeg.install-out.txt --library=F:\biocbuild\bbs-3.20-bioc\R\library --no-vignettes --timings simpleSeg_1.8.0.tar.gz StartedAt: 2025-01-31 06:32:24 -0500 (Fri, 31 Jan 2025) EndedAt: 2025-01-31 06:40:49 -0500 (Fri, 31 Jan 2025) EllapsedTime: 505.7 seconds RetCode: 0 Status: OK CheckDir: simpleSeg.Rcheck Warnings: 0