Package: simpleSeg Version: 1.8.0 Command: /Library/Frameworks/R.framework/Resources/bin/R CMD build --keep-empty-dirs --no-resave-data simpleSeg StartedAt: 2025-01-30 22:56:01 -0500 (Thu, 30 Jan 2025) EndedAt: 2025-01-30 23:01:55 -0500 (Thu, 30 Jan 2025) EllapsedTime: 354.5 seconds RetCode: 0 Status: OK PackageFile: simpleSeg_1.8.0.tar.gz PackageFileSize: 4.775 MiB