Package: simpleSeg Version: 1.8.0 Command: /Library/Frameworks/R.framework/Resources/bin/R CMD INSTALL simpleSeg StartedAt: 2025-01-30 17:11:15 -0500 (Thu, 30 Jan 2025) EndedAt: 2025-01-30 17:12:07 -0500 (Thu, 30 Jan 2025) EllapsedTime: 51.5 seconds RetCode: 0 Status: OK