Package: simpleSeg Version: 1.8.0 Command: /Library/Frameworks/R.framework/Resources/bin/R CMD check --install=check:simpleSeg.install-out.txt --library=/Library/Frameworks/R.framework/Resources/library --no-vignettes --timings simpleSeg_1.8.0.tar.gz StartedAt: 2025-02-01 09:37:18 -0500 (Sat, 01 Feb 2025) EndedAt: 2025-02-01 09:44:32 -0500 (Sat, 01 Feb 2025) EllapsedTime: 433.7 seconds RetCode: 0 Status: OK CheckDir: simpleSeg.Rcheck Warnings: 0