Package: simona Version: 1.4.0 Command: /home/biocbuild/R/R/bin/R CMD INSTALL simona StartedAt: 2025-01-30 20:43:01 -0000 (Thu, 30 Jan 2025) EndedAt: 2025-01-30 20:44:50 -0000 (Thu, 30 Jan 2025) EllapsedTime: 109.3 seconds RetCode: 0 Status: OK