Package: similaRpeak Version: 1.38.0 Command: /home/biocbuild/R/R/bin/R CMD check --install=check:similaRpeak.install-out.txt --library=/home/biocbuild/R/R/site-library --no-vignettes --timings similaRpeak_1.38.0.tar.gz StartedAt: 2025-01-31 10:28:30 -0000 (Fri, 31 Jan 2025) EndedAt: 2025-01-31 10:28:48 -0000 (Fri, 31 Jan 2025) EllapsedTime: 18.0 seconds RetCode: 0 Status: OK CheckDir: similaRpeak.Rcheck Warnings: 0