Package: sigsquared Version: 1.38.0 Command: /home/biocbuild/R/R/bin/R CMD build --keep-empty-dirs --no-resave-data sigsquared StartedAt: 2025-01-31 02:44:34 -0000 (Fri, 31 Jan 2025) EndedAt: 2025-01-31 02:45:04 -0000 (Fri, 31 Jan 2025) EllapsedTime: 30.0 seconds RetCode: 0 Status: OK PackageFile: sigsquared_1.38.0.tar.gz PackageFileSize: 434.9 KiB