Package: signifinder Version: 1.8.0 Command: /home/biocbuild/bbs-3.20-bioc/R/bin/R CMD INSTALL signifinder StartedAt: 2025-01-30 16:03:05 -0500 (Thu, 30 Jan 2025) EndedAt: 2025-01-30 16:03:54 -0500 (Thu, 30 Jan 2025) EllapsedTime: 48.7 seconds RetCode: 0 Status: OK