Package: signifinder Version: 1.8.0 Command: /home/biocbuild/bbs-3.20-bioc/R/bin/R CMD build --keep-empty-dirs --no-resave-data --md5 signifinder StartedAt: 2025-01-30 19:10:53 -0500 (Thu, 30 Jan 2025) EndedAt: 2025-01-30 19:13:40 -0500 (Thu, 30 Jan 2025) EllapsedTime: 167.2 seconds RetCode: 0 Status: OK PackageFile: signifinder_1.8.0.tar.gz PackageFileSize: 9.554 MiB