Package: signifinder Version: 1.8.0 Command: /Library/Frameworks/R.framework/Resources/bin/R CMD build --keep-empty-dirs --no-resave-data signifinder StartedAt: 2025-01-30 22:54:51 -0500 (Thu, 30 Jan 2025) EndedAt: 2025-01-30 23:00:23 -0500 (Thu, 30 Jan 2025) EllapsedTime: 332.5 seconds RetCode: 0 Status: OK PackageFile: signifinder_1.8.0.tar.gz PackageFileSize: 9.639 MiB