Package: signatureSearch Version: 1.20.0 Command: /home/biocbuild/R/R/bin/R CMD build --keep-empty-dirs --no-resave-data signatureSearch StartedAt: 2025-01-31 02:44:24 -0000 (Fri, 31 Jan 2025) EndedAt: 2025-01-31 02:55:11 -0000 (Fri, 31 Jan 2025) EllapsedTime: 646.5 seconds RetCode: 0 Status: OK PackageFile: signatureSearch_1.20.0.tar.gz PackageFileSize: 5.12 MiB