Package: sights Version: 1.32.0 Command: F:\biocbuild\bbs-3.20-bioc\R\bin\R.exe CMD INSTALL sights StartedAt: 2025-01-30 15:34:04 -0500 (Thu, 30 Jan 2025) EndedAt: 2025-01-30 15:34:20 -0500 (Thu, 30 Jan 2025) EllapsedTime: 16.5 seconds RetCode: 0 Status: OK