Package: sights Version: 1.32.0 Command: /Library/Frameworks/R.framework/Resources/bin/R CMD check --install=check:sights.install-out.txt --library=/Library/Frameworks/R.framework/Resources/library --no-vignettes --timings sights_1.32.0.tar.gz StartedAt: 2025-02-01 09:25:22 -0500 (Sat, 01 Feb 2025) EndedAt: 2025-02-01 09:27:25 -0500 (Sat, 01 Feb 2025) EllapsedTime: 122.5 seconds RetCode: 0 Status: OK CheckDir: sights.Rcheck Warnings: 0