Package: siggenes Version: 1.80.0 Command: /home/biocbuild/R/R/bin/R CMD INSTALL siggenes StartedAt: 2025-01-30 20:54:27 -0000 (Thu, 30 Jan 2025) EndedAt: 2025-01-30 20:54:42 -0000 (Thu, 30 Jan 2025) EllapsedTime: 15.3 seconds RetCode: 0 Status: OK