Package: sigFeature Version: 1.24.0 Command: /home/biocbuild/bbs-3.20-bioc/R/bin/R CMD INSTALL sigFeature StartedAt: 2025-01-30 15:57:11 -0500 (Thu, 30 Jan 2025) EndedAt: 2025-01-30 15:57:40 -0500 (Thu, 30 Jan 2025) EllapsedTime: 28.7 seconds RetCode: 0 Status: OK