Package: shinyMethyl Version: 1.42.0 Command: rm -rf shinyMethyl.buildbin-libdir && mkdir shinyMethyl.buildbin-libdir && /Users/biocbuild/BBS/utils/build-universal.sh shinyMethyl_1.42.0.tar.gz /Library/Frameworks/R.framework/Resources/bin/R shinyMethyl.buildbin-libdir StartedAt: 2025-01-31 13:42:32 -0500 (Fri, 31 Jan 2025) EndedAt: 2025-01-31 13:44:14 -0500 (Fri, 31 Jan 2025) EllapsedTime: 101.3 seconds RetCode: 0 Status: OK PackageFile: shinyMethyl_1.42.0.tgz PackageFileSize: 2.424 MiB