Package: sevenbridges Version: 1.36.0 Command: F:\biocbuild\bbs-3.20-bioc\R\bin\R.exe CMD check --no-multiarch --install=check:sevenbridges.install-out.txt --library=F:\biocbuild\bbs-3.20-bioc\R\library --no-vignettes --timings sevenbridges_1.36.0.tar.gz StartedAt: 2025-01-31 06:26:30 -0500 (Fri, 31 Jan 2025) EndedAt: 2025-01-31 06:30:19 -0500 (Fri, 31 Jan 2025) EllapsedTime: 229.4 seconds RetCode: 0 Status: OK CheckDir: sevenbridges.Rcheck Warnings: 0