Package: sevenbridges Version: 1.36.0 Command: /Library/Frameworks/R.framework/Resources/bin/R CMD build --keep-empty-dirs --no-resave-data sevenbridges StartedAt: 2025-01-30 22:51:41 -0500 (Thu, 30 Jan 2025) EndedAt: 2025-01-30 22:55:21 -0500 (Thu, 30 Jan 2025) EllapsedTime: 220.0 seconds RetCode: 0 Status: OK PackageFile: sevenbridges_1.36.0.tar.gz PackageFileSize: 4.656 MiB