Package: sevenbridges Version: 1.36.0 Command: /Library/Frameworks/R.framework/Resources/bin/R CMD build --keep-empty-dirs --no-resave-data sevenbridges StartedAt: 2025-01-31 07:58:31 -0500 (Fri, 31 Jan 2025) EndedAt: 2025-01-31 08:00:12 -0500 (Fri, 31 Jan 2025) EllapsedTime: 101.1 seconds RetCode: 0 Status: OK PackageFile: sevenbridges_1.36.0.tar.gz PackageFileSize: 4.659 MiB