Package: sesame Version: 1.24.0 Command: F:\biocbuild\bbs-3.20-bioc\R\bin\R.exe CMD check --no-multiarch --install=check:sesame.install-out.txt --library=F:\biocbuild\bbs-3.20-bioc\R\library --no-vignettes --timings sesame_1.24.0.tar.gz StartedAt: 2025-01-31 06:26:18 -0500 (Fri, 31 Jan 2025) EndedAt: 2025-01-31 06:47:00 -0500 (Fri, 31 Jan 2025) EllapsedTime: 1242.2 seconds RetCode: 0 Status: OK CheckDir: sesame.Rcheck Warnings: 0