Package: sesame Version: 1.24.0 Command: rm -rf sesame.buildbin-libdir && mkdir sesame.buildbin-libdir && F:\biocbuild\bbs-3.20-bioc\R\bin\R.exe CMD INSTALL --build --library=sesame.buildbin-libdir sesame_1.24.0.tar.gz StartedAt: 2025-01-31 09:36:16 -0500 (Fri, 31 Jan 2025) EndedAt: 2025-01-31 09:38:41 -0500 (Fri, 31 Jan 2025) EllapsedTime: 144.3 seconds RetCode: 0 Status: OK PackageFile: sesame_1.24.0.zip PackageFileSize: 19.82 MiB