Package: sesame Version: 1.24.0 Command: /Library/Frameworks/R.framework/Resources/bin/R CMD INSTALL sesame StartedAt: 2025-01-30 15:34:34 -0500 (Thu, 30 Jan 2025) EndedAt: 2025-01-30 15:35:52 -0500 (Thu, 30 Jan 2025) EllapsedTime: 77.7 seconds RetCode: 0 Status: OK