Package: sesame Version: 1.24.0 Command: /Library/Frameworks/R.framework/Resources/bin/R CMD build --keep-empty-dirs --no-resave-data sesame StartedAt: 2025-01-30 22:51:32 -0500 (Thu, 30 Jan 2025) EndedAt: 2025-01-30 23:02:06 -0500 (Thu, 30 Jan 2025) EllapsedTime: 634.1 seconds RetCode: 0 Status: OK PackageFile: sesame_1.24.0.tar.gz PackageFileSize: 19.67 MiB