Package: sesame Version: 1.24.0 Command: /Library/Frameworks/R.framework/Resources/bin/R CMD INSTALL sesame StartedAt: 2025-01-30 15:50:25 -0500 (Thu, 30 Jan 2025) EndedAt: 2025-01-30 15:51:07 -0500 (Thu, 30 Jan 2025) EllapsedTime: 42.0 seconds RetCode: 0 Status: OK