Package: seqsetvis Version: 1.26.0 Command: F:\biocbuild\bbs-3.20-bioc\R\bin\R.exe CMD INSTALL seqsetvis StartedAt: 2025-01-30 16:04:53 -0500 (Thu, 30 Jan 2025) EndedAt: 2025-01-30 16:06:07 -0500 (Thu, 30 Jan 2025) EllapsedTime: 73.8 seconds RetCode: 0 Status: OK