Package: selectKSigs Version: 1.18.0 Command: F:\biocbuild\bbs-3.20-bioc\R\bin\R.exe CMD INSTALL selectKSigs StartedAt: 2025-01-30 16:21:02 -0500 (Thu, 30 Jan 2025) EndedAt: 2025-01-30 16:21:31 -0500 (Thu, 30 Jan 2025) EllapsedTime: 28.3 seconds RetCode: 0 Status: OK