Package: scruff Version: 1.24.0 Command: /home/biocbuild/bbs-3.20-bioc/R/bin/R CMD INSTALL scruff StartedAt: 2025-01-30 15:36:39 -0500 (Thu, 30 Jan 2025) EndedAt: 2025-01-30 15:38:01 -0500 (Thu, 30 Jan 2025) EllapsedTime: 81.2 seconds RetCode: 0 Status: OK