Package: scruff Version: 1.24.0 Command: /Library/Frameworks/R.framework/Resources/bin/R CMD INSTALL scruff StartedAt: 2025-01-30 16:05:41 -0500 (Thu, 30 Jan 2025) EndedAt: 2025-01-30 16:07:42 -0500 (Thu, 30 Jan 2025) EllapsedTime: 121.1 seconds RetCode: 0 Status: OK