Package: scruff Version: 1.24.0 Command: rm -rf scruff.buildbin-libdir && mkdir scruff.buildbin-libdir && /Users/biocbuild/BBS/utils/build-universal.sh scruff_1.24.0.tar.gz /Library/Frameworks/R.framework/Resources/bin/R scruff.buildbin-libdir StartedAt: 2025-02-01 16:49:25 -0500 (Sat, 01 Feb 2025) EndedAt: 2025-02-01 16:50:47 -0500 (Sat, 01 Feb 2025) EllapsedTime: 81.1 seconds RetCode: 0 Status: OK PackageFile: scruff_1.24.0.tgz PackageFileSize: 3.585 MiB