Package: screenCounter Version: 1.6.0 Command: /home/biocbuild/R/R/bin/R CMD build --keep-empty-dirs --no-resave-data screenCounter StartedAt: 2025-01-31 02:33:37 -0000 (Fri, 31 Jan 2025) EndedAt: 2025-01-31 02:36:05 -0000 (Fri, 31 Jan 2025) EllapsedTime: 147.1 seconds RetCode: 0 Status: OK PackageFile: screenCounter_1.6.0.tar.gz PackageFileSize: 319.3 KiB