Package: screenCounter Version: 1.6.0 Command: chmod a+r screenCounter -R && F:\biocbuild\bbs-3.20-bioc\R\bin\R.exe CMD build --keep-empty-dirs --no-resave-data screenCounter StartedAt: 2025-01-30 21:44:04 -0500 (Thu, 30 Jan 2025) EndedAt: 2025-01-30 21:46:20 -0500 (Thu, 30 Jan 2025) EllapsedTime: 136.2 seconds RetCode: 0 Status: OK PackageFile: screenCounter_1.6.0.tar.gz PackageFileSize: 293.5 KiB