Package: scoup Version: 1.0.0 Command: /Library/Frameworks/R.framework/Resources/bin/R CMD INSTALL scoup StartedAt: 2025-01-30 15:17:36 -0500 (Thu, 30 Jan 2025) EndedAt: 2025-01-30 15:18:09 -0500 (Thu, 30 Jan 2025) EllapsedTime: 33.0 seconds RetCode: 0 Status: OK