Package: scoup Version: 1.0.0 Command: /Library/Frameworks/R.framework/Resources/bin/R CMD INSTALL scoup StartedAt: 2025-01-30 15:24:52 -0500 (Thu, 30 Jan 2025) EndedAt: 2025-01-30 15:25:08 -0500 (Thu, 30 Jan 2025) EllapsedTime: 15.5 seconds RetCode: 0 Status: OK