Package: scoup Version: 1.0.0 Command: /Library/Frameworks/R.framework/Resources/bin/R CMD build --keep-empty-dirs --no-resave-data scoup StartedAt: 2025-01-31 07:29:58 -0500 (Fri, 31 Jan 2025) EndedAt: 2025-01-31 07:30:24 -0500 (Fri, 31 Jan 2025) EllapsedTime: 26.0 seconds RetCode: 0 Status: OK PackageFile: scoup_1.0.0.tar.gz PackageFileSize: 334 KiB