Package: scoreInvHap Version: 1.28.0 Command: /Library/Frameworks/R.framework/Resources/bin/R CMD check --install=check:scoreInvHap.install-out.txt --library=/Library/Frameworks/R.framework/Resources/library --no-vignettes --timings scoreInvHap_1.28.0.tar.gz StartedAt: 2024-11-09 12:47:06 -0500 (Sat, 09 Nov 2024) EndedAt: 2024-11-09 12:52:30 -0500 (Sat, 09 Nov 2024) EllapsedTime: 324.2 seconds RetCode: 0 Status: OK CheckDir: scoreInvHap.Rcheck Warnings: 0