Package: scone Version: 1.30.0 Command: rm -rf scone.buildbin-libdir && mkdir scone.buildbin-libdir && /Users/biocbuild/BBS/utils/build-universal.sh scone_1.30.0.tar.gz /Library/Frameworks/R.framework/Resources/bin/R scone.buildbin-libdir StartedAt: 2025-01-31 13:39:10 -0500 (Fri, 31 Jan 2025) EndedAt: 2025-01-31 13:41:07 -0500 (Fri, 31 Jan 2025) EllapsedTime: 116.7 seconds RetCode: 0 Status: OK PackageFile: scone_1.30.0.tgz PackageFileSize: 2.073 MiB