Package: scone Version: 1.30.0 Command: /Library/Frameworks/R.framework/Resources/bin/R CMD check --install=check:scone.install-out.txt --library=/Library/Frameworks/R.framework/Resources/library --no-vignettes --timings scone_1.30.0.tar.gz StartedAt: 2025-02-01 08:30:43 -0500 (Sat, 01 Feb 2025) EndedAt: 2025-02-01 08:42:02 -0500 (Sat, 01 Feb 2025) EllapsedTime: 679.1 seconds RetCode: 0 Status: OK CheckDir: scone.Rcheck Warnings: 0