Package: scmeth Version: 1.26.0 Command: /home/biocbuild/bbs-3.20-bioc/R/bin/R CMD check --install=check:scmeth.install-out.txt --library=/home/biocbuild/bbs-3.20-bioc/R/site-library --timings scmeth_1.26.0.tar.gz StartedAt: 2025-01-31 02:05:01 -0500 (Fri, 31 Jan 2025) EndedAt: 2025-01-31 02:11:24 -0500 (Fri, 31 Jan 2025) EllapsedTime: 382.3 seconds RetCode: 0 Status: OK CheckDir: scmeth.Rcheck Warnings: 0