Package: scmeth Version: 1.26.0 Command: /Library/Frameworks/R.framework/Resources/bin/R CMD build --keep-empty-dirs --no-resave-data scmeth StartedAt: 2025-01-31 07:26:11 -0500 (Fri, 31 Jan 2025) EndedAt: 2025-01-31 07:27:58 -0500 (Fri, 31 Jan 2025) EllapsedTime: 106.9 seconds RetCode: 0 Status: OK PackageFile: scmeth_1.26.0.tar.gz PackageFileSize: 776.4 KiB